BEGIN:VCALENDAR
VERSION:2.0
PRODID:-//www.bikestore.mk - ECPv6.15.13.1//NONSGML v1.0//EN
CALSCALE:GREGORIAN
METHOD:PUBLISH
X-WR-CALNAME:www.bikestore.mk
X-ORIGINAL-URL:https://bikestore.mk
X-WR-CALDESC:Events for www.bikestore.mk
REFRESH-INTERVAL;VALUE=DURATION:PT1H
X-Robots-Tag:noindex
X-PUBLISHED-TTL:PT1H
BEGIN:VTIMEZONE
TZID:Europe/Skopje
BEGIN:DAYLIGHT
TZOFFSETFROM:+0100
TZOFFSETTO:+0200
TZNAME:CEST
DTSTART:20240331T010000
END:DAYLIGHT
BEGIN:STANDARD
TZOFFSETFROM:+0200
TZOFFSETTO:+0100
TZNAME:CET
DTSTART:20241027T010000
END:STANDARD
BEGIN:DAYLIGHT
TZOFFSETFROM:+0100
TZOFFSETTO:+0200
TZNAME:CEST
DTSTART:20250330T010000
END:DAYLIGHT
BEGIN:STANDARD
TZOFFSETFROM:+0200
TZOFFSETTO:+0100
TZNAME:CET
DTSTART:20251026T010000
END:STANDARD
BEGIN:DAYLIGHT
TZOFFSETFROM:+0100
TZOFFSETTO:+0200
TZNAME:CEST
DTSTART:20260329T010000
END:DAYLIGHT
BEGIN:STANDARD
TZOFFSETFROM:+0200
TZOFFSETTO:+0100
TZNAME:CET
DTSTART:20261025T010000
END:STANDARD
BEGIN:DAYLIGHT
TZOFFSETFROM:+0100
TZOFFSETTO:+0200
TZNAME:CEST
DTSTART:20270328T010000
END:DAYLIGHT
BEGIN:STANDARD
TZOFFSETFROM:+0200
TZOFFSETTO:+0100
TZNAME:CET
DTSTART:20271031T010000
END:STANDARD
END:VTIMEZONE
BEGIN:VEVENT
DTSTART;TZID=Europe/Skopje:20250914T080000
DTEND;TZID=Europe/Skopje:20260913T170000
DTSTAMP:20260424T160016
CREATED:20250915T111816Z
LAST-MODIFIED:20250915T141828Z
UID:11693-1757836800-1789318800@bikestore.mk
SUMMARY:БАЈКФЕСТ Патеките на Водно 2025
DESCRIPTION:На 14.09.2025 на Водно\, втора година по ред\, се одржа фестивалот на велосипедизмот БАЈКФЕСТ Патеките на Водно\, во организација на Велосипедскиот клуб БАЈКСТОР од Скопје. Целта на фестивалот е на едно место да ги собере сите љубители на велосипедизмот\, планинарењето\, екологијата и убавиот и здрав живот. Со пријавени над 250 официјални учесници во велосипедската тура и уште толку кои се приклучија на самото место\, овој настан прераснува во еден сериозен фестивал кој носи само една јасна порака дека луѓето сакаат активен и здрав живот. Велосипедската тура се возеше од Средно до врвот на Водно\, Горно и Долно Соње\, Сопиште\, полициската станица и по пионерската патека повторно до базата на фестивалот на Средно Водно\, каде што се заврши со дружба и забава со сите категории на учесници. \nЕдна од задачите на организаторите на настанот е рекреативните возачи да видат како изгледаат делови од патеките кој професионалните велосипедисти ги возат за време на натпреварите\, да се мотивираат млади и потенцијални велосипедисти да почнат посериозно да тренираат и да постигнуваат врвни резултати на натпревари за себе\, за својте клубови и за државата. \nВо планинарската тура се вклучија триесетина рекреативни планинари кои дадоа допринес и го збогатија овој спортски настан. \nПосебен шмек на настанот дадоа учесниците од Црна Гора и Србија со што овој фестивал доби меѓународен карактер. \nОрганизаторот изрази благодарност до сите општествено одговорни фирми кој се вклучија во подршка на овој настан\, организации кој допринесоа со својата соработка\, како и ентузијасти кој безрезервно го дадоа своето време и умешност и направија сите да уживаат во овој настан.
URL:https://bikestore.mk/event/bajkfest-patekite-na-vodno/
ATTACH;FMTTYPE=image/jpeg:https://bikestore.mk/wp-content/uploads/2025/09/DSC_7133-01-1.jpeg
END:VEVENT
END:VCALENDAR